BEGIN:VCALENDAR
VERSION:2.0
PRODID:-//Kingsley Cafe - ECPv6.15.12.2//NONSGML v1.0//EN
CALSCALE:GREGORIAN
METHOD:PUBLISH
X-WR-CALNAME:Kingsley Cafe
X-ORIGINAL-URL:https://kingsleycafe.co.uk
X-WR-CALDESC:Events for Kingsley Cafe
REFRESH-INTERVAL;VALUE=DURATION:PT1H
X-Robots-Tag:noindex
X-PUBLISHED-TTL:PT1H
BEGIN:VTIMEZONE
TZID:UTC
BEGIN:STANDARD
TZOFFSETFROM:+0000
TZOFFSETTO:+0000
TZNAME:UTC
DTSTART:20250101T000000
END:STANDARD
END:VTIMEZONE
BEGIN:VEVENT
DTSTART;TZID=UTC:20260424T170000
DTEND;TZID=UTC:20260424T210000
DTSTAMP:20260420T003333
CREATED:20260316T101543Z
LAST-MODIFIED:20260316T101543Z
UID:2971-1777050000-1777064400@kingsleycafe.co.uk
SUMMARY:Bike Night
DESCRIPTION:Our regular Bike night at Kingsley – join us for some 2 wheeled enjoyment\, with food and drink available from the Cafe. All welcome.
URL:https://kingsleycafe.co.uk/event/bike-night-79/
LOCATION:Kingsley Cafe\, A40 Eynsham Bypass\, Witney\, Oxfordshire\, OX29 4EF\, United Kingdom
CATEGORIES:Bike Events
ATTACH;FMTTYPE=image/jpeg:https://kingsleycafe.co.uk/wp-content/uploads/2025/09/BIKE-NIGHT-KINGSLEY-2-1-scaled.jpeg
END:VEVENT
BEGIN:VEVENT
DTSTART;TZID=UTC:20260424T180000
DTEND;TZID=UTC:20260424T200000
DTSTAMP:20260420T003333
CREATED:20260408T093223Z
LAST-MODIFIED:20260408T093223Z
UID:3028-1777053600-1777060800@kingsleycafe.co.uk
SUMMARY:Live Music
DESCRIPTION:Alex Chapman takes over the stage for an evening of outstanding live music. With over 20 years of professional experience performing across the UK and internationally\, Alex brings a wealth of talent and energy to every performance. \nHis set features a broad and varied repertoire\, from classic and modern pop to soul\, rock\, jazz and country\, creating the perfect atmosphere for a great night out. Make an evening of it while you’re here. \nOur fully stocked bar offers a wide range of cocktails\, spirits and beers on tap\, alongside coffee and delicious hot chocolate. Our kitchen will also be open\, serving food until 8PM. \nJoin us for great music\, good food and a fantastic atmosphere.
URL:https://kingsleycafe.co.uk/event/live-music-116/
LOCATION:Kingsley Cafe\, A40 Eynsham Bypass\, Witney\, Oxfordshire\, OX29 4EF\, United Kingdom
CATEGORIES:Music Events
ATTACH;FMTTYPE=image/jpeg:https://kingsleycafe.co.uk/wp-content/uploads/2026/04/alex-chapman-april.jpeg
END:VEVENT
BEGIN:VEVENT
DTSTART;TZID=UTC:20260425T100000
DTEND;TZID=UTC:20260425T180000
DTSTAMP:20260420T003333
CREATED:20260305T123048Z
LAST-MODIFIED:20260305T123048Z
UID:2888-1777111200-1777140000@kingsleycafe.co.uk
SUMMARY:White Label Motorsport at Kingsley Café
DESCRIPTION:White Label Motorsport at Kingsley Café\n📍 Eynsham\n🗓 Saturday 25 April | 10am–6pm \nWe’re excited to welcome White Label Motorsport to Kingsley this April\, bringing a lineup of high-performance VW\, Audi and Porsche drag cars for a special display\, alongside official merch\, a kids’ Lego guessing game and a charity raffle running throughout the day. \nThe café will be open as normal\, so you can join us for breakfast\, lunch\, coffee or cake while enjoying the atmosphere. \nWe’re also proud to be supporting Ben\, a charity that helps people navigate life’s challenges and improve their mental\, physical and overall wellbeing. Every raffle ticket and donation on the day supports their life-changing work. \nWe’ll round off the day with music in the evening\, The Cartwright Cartel from 6:30pm un til 8:30pm 🎶 \nA brilliant day for car enthusiasts\, families and our local community\, we look forward to welcoming you. \n#WLMTakeover
URL:https://kingsleycafe.co.uk/event/white-label-motorsport-at-kingsley-cafe/
LOCATION:Kingsley Cafe\, A40 Eynsham Bypass\, Witney\, Oxfordshire\, OX29 4EF\, United Kingdom
CATEGORIES:Car Events,Club Events
ATTACH;FMTTYPE=image/png:https://kingsleycafe.co.uk/wp-content/uploads/2026/03/White-Label-Motorsport-Takeover-Flyer-1080-x-1350-px.png
END:VEVENT
BEGIN:VEVENT
DTSTART;TZID=UTC:20260425T183000
DTEND;TZID=UTC:20260425T203000
DTSTAMP:20260420T003334
CREATED:20260408T095820Z
LAST-MODIFIED:20260408T095820Z
UID:3031-1777141800-1777149000@kingsleycafe.co.uk
SUMMARY:Live Music
DESCRIPTION:Live music on Saturday 25th April\, at Kingsley 🎶 \nThe Cartwright Cartel are back\, bringing a crowd-pleasing set packed with Blues\, Classic Rock\, Brit Pop\, 60s\, 70s\, 80s favourites and a few post-2000 hits for good measure. \nAnd great food\, a well-stocked bar\, and the usual Kingsley buzz\, and you’ve got your Saturday night sorted. \nDogs welcome\, always.
URL:https://kingsleycafe.co.uk/event/live-music-117/
LOCATION:Kingsley Cafe\, A40 Eynsham Bypass\, Witney\, Oxfordshire\, OX29 4EF\, United Kingdom
CATEGORIES:Music Events
ATTACH;FMTTYPE=image/jpeg:https://kingsleycafe.co.uk/wp-content/uploads/2026/04/cartwright-cartek.jpeg
END:VEVENT
BEGIN:VEVENT
DTSTART;TZID=UTC:20260426T170000
DTEND;TZID=UTC:20260426T190000
DTSTAMP:20260420T003334
CREATED:20260408T103554Z
LAST-MODIFIED:20260408T103554Z
UID:3035-1777222800-1777230000@kingsleycafe.co.uk
SUMMARY:Live Music
DESCRIPTION:Live at Kingsley: Richard Snow \n\nJoin us on Sunday 26th April from 5pm for an evening with Richard Snow\, musical director\, pianist\, vocalist\, and a true live performer.\n\nWith big vocals\, brilliant musicianship\, and the kind of energy that lifts the whole room\, this is live music done properly.\nFood and drinks available throughout the evening.
URL:https://kingsleycafe.co.uk/event/live-music-118/
LOCATION:Kingsley Cafe\, A40 Eynsham Bypass\, Witney\, Oxfordshire\, OX29 4EF\, United Kingdom
CATEGORIES:Music Events
ATTACH;FMTTYPE=image/jpeg:https://kingsleycafe.co.uk/wp-content/uploads/2026/04/unnamed-file.jpeg
END:VEVENT
BEGIN:VEVENT
DTSTART;TZID=UTC:20260501T190000
DTEND;TZID=UTC:20260501T210000
DTSTAMP:20260420T003334
CREATED:20260408T105106Z
LAST-MODIFIED:20260408T105106Z
UID:3038-1777662000-1777669200@kingsleycafe.co.uk
SUMMARY:Live Music
DESCRIPTION:Classic rock\, cocktails and a proper Friday night 🎸🍸 \nRick Chase returns to Kingsley on Friday 1st May\, with live classic rock\, big Friday energy\, and the kind of atmosphere that keeps the night going. \nPlus\, our 2 for 1 cocktails are on from 5–7pm — buy two of the same cocktail for the price of one (T&Cs apply).
URL:https://kingsleycafe.co.uk/event/live-music-119/
LOCATION:Kingsley Cafe\, A40 Eynsham Bypass\, Witney\, Oxfordshire\, OX29 4EF\, United Kingdom
CATEGORIES:Music Events
ATTACH;FMTTYPE=image/jpeg:https://kingsleycafe.co.uk/wp-content/uploads/2026/04/rick-chase.jpeg
END:VEVENT
BEGIN:VEVENT
DTSTART;TZID=UTC:20260502T100000
DTEND;TZID=UTC:20260502T130000
DTSTAMP:20260420T003334
CREATED:20260409T110843Z
LAST-MODIFIED:20260409T110843Z
UID:3041-1777716000-1777726800@kingsleycafe.co.uk
SUMMARY:Car Event
DESCRIPTION:The Fuel Junkies are rolling back into Kingsley this May 🛞🔥 \nJoin us on Saturday 2nd May for a proper meet full of great cars\, familiar faces\, and plenty of car talk. \nWhether you’re bringing something special\, coming to admire the lineup\, or just fancy a good afternoon around like minded people\, there’ll be plenty to enjoy. \nAll welcome\, just bring the keys and the stories.
URL:https://kingsleycafe.co.uk/event/car-event-12/
LOCATION:Kingsley Cafe\, A40 Eynsham Bypass\, Witney\, Oxfordshire\, OX29 4EF\, United Kingdom
CATEGORIES:Car Events,Club Events
ATTACH;FMTTYPE=image/jpeg:https://kingsleycafe.co.uk/wp-content/uploads/2026/04/new-fuel-junkies-poster.jpeg
END:VEVENT
BEGIN:VEVENT
DTSTART;TZID=UTC:20260502T190000
DTEND;TZID=UTC:20260502T210000
DTSTAMP:20260420T003334
CREATED:20251210T163119Z
LAST-MODIFIED:20251210T163119Z
UID:2741-1777748400-1777755600@kingsleycafe.co.uk
SUMMARY:The Flashback Band
DESCRIPTION:The Flashback Band return to Kingsley Cafe! \nEnjoy an evening of classic hits from the 80s\, our bar will be open until close and our delicious food will be served until 8pm. See you there 🎶
URL:https://kingsleycafe.co.uk/event/the-flashback-band/
LOCATION:Kingsley Cafe\, A40 Eynsham Bypass\, Witney\, Oxfordshire\, OX29 4EF\, United Kingdom
CATEGORIES:Music Events
ATTACH;FMTTYPE=image/png:https://kingsleycafe.co.uk/wp-content/uploads/2025/12/The-flash-back-band-may-2nd.png
END:VEVENT
BEGIN:VEVENT
DTSTART;TZID=UTC:20260503T150000
DTEND;TZID=UTC:20260503T180000
DTSTAMP:20260420T003334
CREATED:20260415T133221Z
LAST-MODIFIED:20260415T133221Z
UID:3062-1777820400-1777831200@kingsleycafe.co.uk
SUMMARY:Limitless Car Event
DESCRIPTION:Rev your engines\, Limitless is back! 👀 \nTime to give the daily a wash or pull the weekend car out of the garage. Join us Sunday\, May 3rd\, for another morning of great builds and even better company. ☕️🛞 \nWhether you’re showing something off or just coming for a look\, everyone’s welcome. See you there!
URL:https://kingsleycafe.co.uk/event/limitless-car-event-5/
LOCATION:Kingsley Cafe\, A40 Eynsham Bypass\, Witney\, Oxfordshire\, OX29 4EF\, United Kingdom
CATEGORIES:Visiting Club
ATTACH;FMTTYPE=image/jpeg:https://kingsleycafe.co.uk/wp-content/uploads/2026/04/New-limitless-poster.jpeg
END:VEVENT
BEGIN:VEVENT
DTSTART;TZID=UTC:20260510T170000
DTEND;TZID=UTC:20260510T190000
DTSTAMP:20260420T003334
CREATED:20260413T150748Z
LAST-MODIFIED:20260413T150748Z
UID:3059-1778432400-1778439600@kingsleycafe.co.uk
SUMMARY:Live Music
DESCRIPTION:Tim Rance joins us at Kingsley on Sunday 10th May from 5pm 🎸 \nExpect a mix of classic rock\, pop favourites and original tracks\, all played properly\, the kind of set you stick around for. \nGood music\, great atmosphere\, and the perfect way to spend your Sunday evening.
URL:https://kingsleycafe.co.uk/event/live-music-120/
LOCATION:Kingsley Cafe\, A40 Eynsham Bypass\, Witney\, Oxfordshire\, OX29 4EF\, United Kingdom
CATEGORIES:Music Events
ATTACH;FMTTYPE=image/jpeg:https://kingsleycafe.co.uk/wp-content/uploads/2026/04/Tim-rance-live-music.jpeg
END:VEVENT
BEGIN:VEVENT
DTSTART;TZID=UTC:20260517T140000
DTEND;TZID=UTC:20260517T173000
DTSTAMP:20260420T003334
CREATED:20260413T091320Z
LAST-MODIFIED:20260413T091320Z
UID:3055-1779026400-1779039000@kingsleycafe.co.uk
SUMMARY:THE DISTINGUISHED GENTLEMAN'S RIDE
DESCRIPTION:Get ready for the 15th edition of The Distinguished Gentleman’s Ride\, taking place in London on Sunday 17th May 2026. \nThis global event brings together riders from over 1\,000 cities\, all hitting the road on the same day to support men’s mental health and prostate cancer research. \nJoin thousands of well dressed riders in one of the most stylish charity motorcycle events in the world\, raising both funds and awareness in partnership with Movember. \nIf you’re planning to take part & keep updated\, make sure you register through the official website at http://www.gentlemansride.com \nRide details like times and locations are only shared with registered participants and aren’t made public\, so sign up to get all the info.
URL:https://kingsleycafe.co.uk/event/the-distinguished-gentlemans-ride/
LOCATION:Kingsley Cafe\, A40 Eynsham Bypass\, Witney\, Oxfordshire\, OX29 4EF\, United Kingdom
ATTACH;FMTTYPE=image/jpeg:https://kingsleycafe.co.uk/wp-content/uploads/2026/04/Image-13-04-2026-at-09.21.jpeg
END:VEVENT
BEGIN:VEVENT
DTSTART;TZID=UTC:20260726T080000
DTEND;TZID=UTC:20260726T170000
DTSTAMP:20260420T003334
CREATED:20260128T104101Z
LAST-MODIFIED:20260128T104101Z
UID:2816-1785052800-1785085200@kingsleycafe.co.uk
SUMMARY:South Oxon Car Club Scenic Sunday
DESCRIPTION:Back for its third running\, the South Oxon Car Club Scenic Sunday takes place on 26 July\, with the club returning to Kingsley Café in Eynsham as both the start and finish venue. \nThe 115-mile route heads into the Cotswolds\, showcasing some of the region’s best driving roads\, with planned stops at Broadway Tower and the Classic Motor Hub near Bibury. \nThe event will conclude back at Kingsley Café\, where members of the public are welcome to view the vehicles after their journey.
URL:https://kingsleycafe.co.uk/event/south-oxon-car-club-scenic-sunday/
LOCATION:Kingsley Cafe\, A40 Eynsham Bypass\, Witney\, Oxfordshire\, OX29 4EF\, United Kingdom
CATEGORIES:Car Events,Club Events
ATTACH;FMTTYPE=image/jpeg:https://kingsleycafe.co.uk/wp-content/uploads/2026/01/new-car-aposter.jpeg
END:VEVENT
END:VCALENDAR