BEGIN:VCALENDAR
VERSION:2.0
PRODID:-//Kingsley Cafe - ECPv6.15.12.2//NONSGML v1.0//EN
CALSCALE:GREGORIAN
METHOD:PUBLISH
X-WR-CALNAME:Kingsley Cafe
X-ORIGINAL-URL:https://kingsleycafe.co.uk
X-WR-CALDESC:Events for Kingsley Cafe
REFRESH-INTERVAL;VALUE=DURATION:PT1H
X-Robots-Tag:noindex
X-PUBLISHED-TTL:PT1H
BEGIN:VTIMEZONE
TZID:UTC
BEGIN:STANDARD
TZOFFSETFROM:+0000
TZOFFSETTO:+0000
TZNAME:UTC
DTSTART:20250101T000000
END:STANDARD
END:VTIMEZONE
BEGIN:VEVENT
DTSTART;TZID=UTC:20260425T100000
DTEND;TZID=UTC:20260425T180000
DTSTAMP:20260421T094410
CREATED:20260305T123048Z
LAST-MODIFIED:20260305T123048Z
UID:2888-1777111200-1777140000@kingsleycafe.co.uk
SUMMARY:White Label Motorsport at Kingsley Café
DESCRIPTION:White Label Motorsport at Kingsley Café\n📍 Eynsham\n🗓 Saturday 25 April | 10am–6pm \nWe’re excited to welcome White Label Motorsport to Kingsley this April\, bringing a lineup of high-performance VW\, Audi and Porsche drag cars for a special display\, alongside official merch\, a kids’ Lego guessing game and a charity raffle running throughout the day. \nThe café will be open as normal\, so you can join us for breakfast\, lunch\, coffee or cake while enjoying the atmosphere. \nWe’re also proud to be supporting Ben\, a charity that helps people navigate life’s challenges and improve their mental\, physical and overall wellbeing. Every raffle ticket and donation on the day supports their life-changing work. \nWe’ll round off the day with music in the evening\, The Cartwright Cartel from 6:30pm un til 8:30pm 🎶 \nA brilliant day for car enthusiasts\, families and our local community\, we look forward to welcoming you. \n#WLMTakeover
URL:https://kingsleycafe.co.uk/event/white-label-motorsport-at-kingsley-cafe/
LOCATION:Kingsley Cafe\, A40 Eynsham Bypass\, Witney\, Oxfordshire\, OX29 4EF\, United Kingdom
CATEGORIES:Car Events,Club Events
ATTACH;FMTTYPE=image/png:https://kingsleycafe.co.uk/wp-content/uploads/2026/03/White-Label-Motorsport-Takeover-Flyer-1080-x-1350-px.png
END:VEVENT
END:VCALENDAR