BEGIN:VCALENDAR
VERSION:2.0
PRODID:-//Kingsley Cafe - ECPv6.15.12.2//NONSGML v1.0//EN
CALSCALE:GREGORIAN
METHOD:PUBLISH
X-WR-CALNAME:Kingsley Cafe
X-ORIGINAL-URL:https://kingsleycafe.co.uk
X-WR-CALDESC:Events for Kingsley Cafe
REFRESH-INTERVAL;VALUE=DURATION:PT1H
X-Robots-Tag:noindex
X-PUBLISHED-TTL:PT1H
BEGIN:VTIMEZONE
TZID:UTC
BEGIN:STANDARD
TZOFFSETFROM:+0000
TZOFFSETTO:+0000
TZNAME:UTC
DTSTART:20250101T000000
END:STANDARD
END:VTIMEZONE
BEGIN:VEVENT
DTSTART;TZID=UTC:20260501T190000
DTEND;TZID=UTC:20260501T210000
DTSTAMP:20260421T102351
CREATED:20260408T105106Z
LAST-MODIFIED:20260408T105106Z
UID:3038-1777662000-1777669200@kingsleycafe.co.uk
SUMMARY:Live Music
DESCRIPTION:Classic rock\, cocktails and a proper Friday night 🎸🍸 \nRick Chase returns to Kingsley on Friday 1st May\, with live classic rock\, big Friday energy\, and the kind of atmosphere that keeps the night going. \nPlus\, our 2 for 1 cocktails are on from 5–7pm — buy two of the same cocktail for the price of one (T&Cs apply).
URL:https://kingsleycafe.co.uk/event/live-music-119/
LOCATION:Kingsley Cafe\, A40 Eynsham Bypass\, Witney\, Oxfordshire\, OX29 4EF\, United Kingdom
CATEGORIES:Music Events
ATTACH;FMTTYPE=image/jpeg:https://kingsleycafe.co.uk/wp-content/uploads/2026/04/rick-chase.jpeg
END:VEVENT
END:VCALENDAR