BEGIN:VCALENDAR
VERSION:2.0
PRODID:-//Kingsley Cafe - ECPv6.15.12.2//NONSGML v1.0//EN
CALSCALE:GREGORIAN
METHOD:PUBLISH
X-WR-CALNAME:Kingsley Cafe
X-ORIGINAL-URL:https://kingsleycafe.co.uk
X-WR-CALDESC:Events for Kingsley Cafe
REFRESH-INTERVAL;VALUE=DURATION:PT1H
X-Robots-Tag:noindex
X-PUBLISHED-TTL:PT1H
BEGIN:VTIMEZONE
TZID:UTC
BEGIN:STANDARD
TZOFFSETFROM:+0000
TZOFFSETTO:+0000
TZNAME:UTC
DTSTART:20250101T000000
END:STANDARD
END:VTIMEZONE
BEGIN:VEVENT
DTSTART;TZID=UTC:20260502T100000
DTEND;TZID=UTC:20260502T130000
DTSTAMP:20260421T102626
CREATED:20260409T110843Z
LAST-MODIFIED:20260409T110843Z
UID:3041-1777716000-1777726800@kingsleycafe.co.uk
SUMMARY:Car Event
DESCRIPTION:The Fuel Junkies are rolling back into Kingsley this May 🛞🔥 \nJoin us on Saturday 2nd May for a proper meet full of great cars\, familiar faces\, and plenty of car talk. \nWhether you’re bringing something special\, coming to admire the lineup\, or just fancy a good afternoon around like minded people\, there’ll be plenty to enjoy. \nAll welcome\, just bring the keys and the stories.
URL:https://kingsleycafe.co.uk/event/car-event-12/
LOCATION:Kingsley Cafe\, A40 Eynsham Bypass\, Witney\, Oxfordshire\, OX29 4EF\, United Kingdom
CATEGORIES:Car Events,Club Events
ATTACH;FMTTYPE=image/jpeg:https://kingsleycafe.co.uk/wp-content/uploads/2026/04/new-fuel-junkies-poster.jpeg
END:VEVENT
END:VCALENDAR