BEGIN:VCALENDAR
VERSION:2.0
PRODID:-//Kingsley Cafe - ECPv6.15.12.2//NONSGML v1.0//EN
CALSCALE:GREGORIAN
METHOD:PUBLISH
X-WR-CALNAME:Kingsley Cafe
X-ORIGINAL-URL:https://kingsleycafe.co.uk
X-WR-CALDESC:Events for Kingsley Cafe
REFRESH-INTERVAL;VALUE=DURATION:PT1H
X-Robots-Tag:noindex
X-PUBLISHED-TTL:PT1H
BEGIN:VTIMEZONE
TZID:UTC
BEGIN:STANDARD
TZOFFSETFROM:+0000
TZOFFSETTO:+0000
TZNAME:UTC
DTSTART:20250101T000000
END:STANDARD
END:VTIMEZONE
BEGIN:VEVENT
DTSTART;TZID=UTC:20260501T170000
DTEND;TZID=UTC:20260501T213000
DTSTAMP:20260423T130926
CREATED:20260420T131238Z
LAST-MODIFIED:20260420T131238Z
UID:3093-1777654800-1777671000@kingsleycafe.co.uk
SUMMARY:Bike Night
DESCRIPTION:Built for Riders.\nKingsley from 5PM\, a line up worth walking around twice.Sourdough pizzas coming out hot & quality coffee done properly.
URL:https://kingsleycafe.co.uk/event/bike-night-80/
LOCATION:Kingsley Cafe\, A40 Eynsham Bypass\, Witney\, Oxfordshire\, OX29 4EF\, United Kingdom
CATEGORIES:Bike Events
ATTACH;FMTTYPE=image/jpeg:https://kingsleycafe.co.uk/wp-content/uploads/2025/09/BIKE-NIGHT-KINGSLEY-2-scaled.jpeg
END:VEVENT
END:VCALENDAR